BEGIN:VCALENDAR
VERSION:2.0
PRODID:-//Réseau Mycélium - ECPv6.13.0//NONSGML v1.0//EN
CALSCALE:GREGORIAN
METHOD:PUBLISH
X-WR-CALNAME:Réseau Mycélium
X-ORIGINAL-URL:https://www.reseaumycelium.ch
X-WR-CALDESC:Évènements pour Réseau Mycélium
REFRESH-INTERVAL;VALUE=DURATION:PT1H
X-Robots-Tag:noindex
X-PUBLISHED-TTL:PT1H
BEGIN:VTIMEZONE
TZID:Europe/Zurich
BEGIN:DAYLIGHT
TZOFFSETFROM:+0100
TZOFFSETTO:+0200
TZNAME:CEST
DTSTART:20250330T010000
END:DAYLIGHT
BEGIN:STANDARD
TZOFFSETFROM:+0200
TZOFFSETTO:+0100
TZNAME:CET
DTSTART:20251026T010000
END:STANDARD
END:VTIMEZONE
BEGIN:VEVENT
DTSTART;TZID=Europe/Zurich:20250620T173000
DTEND;TZID=Europe/Zurich:20250620T190000
DTSTAMP:20260423T062817
CREATED:20250318T175635Z
LAST-MODIFIED:20250318T175642Z
UID:33153-1750440600-1750446000@www.reseaumycelium.ch
SUMMARY:Contes « Femmes »
DESCRIPTION:Les Loukoums vous proposent un florilège de contes et de légendes d’ici et d’ailleurs pour une nuit de la St-Jean inoubliable\, cœur à cœur\, corps à corps. À choix\, Mélusine ou la dernière femme de Barbe-Bleue\, une femme honorable plus aussi honorable que ça\, le pas de danse d’une Catherinette désenchantée ou encore l’audace de la fille du cordonnier. Installez-vous au pied de l’Arbre d’or et écoutez avec tous vos sens. \nLes contes seront suivis d’un moment de partage autour d’un verre. \nMatériel : Si la météo le permet\, les contes auront lieu en extérieur\, ce qui exige des habits adaptés. \nInscriptions : sans inscription \nPrix : au chapeau (prix libre et en conscience) \nAccessibilité : ces contes ne sont pas prévus pour les enfants.
URL:https://www.reseaumycelium.ch/evenement/contes-femmes/
LOCATION:Les Jardins du Mycélium\, Rue des Crêtets 129\, La Chaux-de-Fonds\, Neuchâtel\, 2300\, Switzerland
CATEGORIES:Atelier
END:VEVENT
BEGIN:VEVENT
DTSTART;TZID=Europe/Zurich:20250622T090000
DTEND;TZID=Europe/Zurich:20250622T120000
DTSTAMP:20260423T062817
CREATED:20250302T171637Z
LAST-MODIFIED:20250302T172236Z
UID:33108-1750582800-1750593600@www.reseaumycelium.ch
SUMMARY:Liage traditionnel de bottes d’herbes et de bouquets garnis
DESCRIPTION:Lieu de rencontre: Les jardins du Mycélium\, Rue des Crêtets 129\, 2300 La Chaux de Fonds \nAnimatrice: Luna Baillod\, phytothérapeute\, praticienne en santé naturelle et formatrice d’adulte (plus d’informations sur Luna) \nDescription: Cueillette des plantes médicinales sauvages et liage de bottes d’herbes pour les faire sécher pour des tisanes ou pour fumigation\, entre les traditions et raisons de fumigations \nMatériel: des habits adaptés à la météo\, petit couteau\, éventuellement des gants de jardinage\, éventuellement un herbier si vous en avez un\, de quoi prendre des notes si vous le voulez\, un cordon en matériaux naturels \nInscriptions: LunalaBluna@web.de ou SMS à 077/4183910 jusqu’au 14 juin 2025 (je ne pourrais malheureusement pas considérer votre participation sans inscription. Merci! Le cours se déroule avec un minimum de 5 personnes) \nPrix: entre 30-50 CHF (selon votre situation en conscience)
URL:https://www.reseaumycelium.ch/evenement/liage-traditionnel-de-bottes-dherbes-et-de-bouquets-garnis/
LOCATION:Les Jardins du Mycélium\, Rue des Crêtets 129\, La Chaux-de-Fonds\, Neuchâtel\, 2300\, Switzerland
CATEGORIES:Atelier
ORGANIZER;CN="Luna Baillod":MAILTO:LunalaBluna@web.de
END:VEVENT
END:VCALENDAR