BEGIN:VCALENDAR
VERSION:2.0
PRODID:-//Réseau Mycélium - ECPv6.13.0//NONSGML v1.0//EN
CALSCALE:GREGORIAN
METHOD:PUBLISH
X-WR-CALNAME:Réseau Mycélium
X-ORIGINAL-URL:https://www.reseaumycelium.ch
X-WR-CALDESC:Évènements pour Réseau Mycélium
REFRESH-INTERVAL;VALUE=DURATION:PT1H
X-Robots-Tag:noindex
X-PUBLISHED-TTL:PT1H
BEGIN:VTIMEZONE
TZID:Europe/Zurich
BEGIN:DAYLIGHT
TZOFFSETFROM:+0100
TZOFFSETTO:+0200
TZNAME:CEST
DTSTART:20250330T010000
END:DAYLIGHT
BEGIN:STANDARD
TZOFFSETFROM:+0200
TZOFFSETTO:+0100
TZNAME:CET
DTSTART:20251026T010000
END:STANDARD
END:VTIMEZONE
BEGIN:VEVENT
DTSTART;TZID=Europe/Zurich:20251026T140000
DTEND;TZID=Europe/Zurich:20251026T170000
DTSTAMP:20260423T000858
CREATED:20250302T171803Z
LAST-MODIFIED:20250302T172153Z
UID:33110-1761487200-1761498000@www.reseaumycelium.ch
SUMMARY:À l’aise et informé.ex à travers la ménopause\, tout savoir sur la ménopause et comment vivre cette étape de manière naturelle et sereine
DESCRIPTION:Lieu de rencontre : à définir\, 2300 La Chaux-de-Fonds \nAnimatrice : Luna Baillod\, phytothérapeute\, praticienne en santé naturelle et formatrice d’adultes (plus d’informations sur Luna) \nDescription \nUn atelier convivial destiné aux femmes qui souhaitent mieux comprendre leur corps pendant la ménopause et découvrir des moyens naturels pour vivre cette période en douceur. Ensemble\, nous explorerons : \n\nLes remèdes naturels et plantes qui soutiennent le corps avec bienveillance\nDes exercices pratiques pour favoriser le bien-être et la sérénité intérieure\nUn espace bienveillant pour échanger expériences et poser vos questions\n\nMatériel : \n\nDes vêtements confortables adaptés à la météo\nUn carnet et un stylo pour prendre des notes\n(Optionnel) Un tapis ou un coussin pour les exercices relaxants\n\nInscriptions : merci de vous inscrire avant le 14 juin 2025 par e-mail à LunalaBluna@web.de ou par SMS au 077 418 39 10. (L’atelier aura lieu uniquement avec un minimum de 5 personnes. Une participation sans inscription préalable ne pourra malheureusement pas être acceptée. Merci !) \nPrix : 30–50 CHF (selon votre situation personnelle et en conscience). \nJe me réjouis de partager une journée inspirante et ressourçante avec vous !
URL:https://www.reseaumycelium.ch/evenement/a-laise-et-informe-ex-a-travers-la-menopause-tout-savoir-sur-la-menopause-et-comment-vivre-cette-etape-de-maniere-naturelle-et-sereine/
LOCATION:Neuchâtel
CATEGORIES:Atelier
ORGANIZER;CN="Luna Baillod":MAILTO:LunalaBluna@web.de
END:VEVENT
END:VCALENDAR