BEGIN:VCALENDAR
VERSION:2.0
PRODID:-//Réseau Mycélium - ECPv6.13.0//NONSGML v1.0//EN
CALSCALE:GREGORIAN
METHOD:PUBLISH
X-WR-CALNAME:Réseau Mycélium
X-ORIGINAL-URL:https://www.reseaumycelium.ch
X-WR-CALDESC:Évènements pour Réseau Mycélium
REFRESH-INTERVAL;VALUE=DURATION:PT1H
X-Robots-Tag:noindex
X-PUBLISHED-TTL:PT1H
BEGIN:VTIMEZONE
TZID:Europe/Zurich
BEGIN:DAYLIGHT
TZOFFSETFROM:+0100
TZOFFSETTO:+0200
TZNAME:CEST
DTSTART:20240331T010000
END:DAYLIGHT
BEGIN:STANDARD
TZOFFSETFROM:+0200
TZOFFSETTO:+0100
TZNAME:CET
DTSTART:20241027T010000
END:STANDARD
END:VTIMEZONE
BEGIN:VEVENT
DTSTART;TZID=Europe/Zurich:20240608T094500
DTEND;TZID=Europe/Zurich:20240608T170000
DTSTAMP:20260424T033340
CREATED:20241026T094226Z
LAST-MODIFIED:20250302T172414Z
UID:31046-1717839900-1717866000@www.reseaumycelium.ch
SUMMARY:Atelier de Travail qui Relie (TQR)
DESCRIPTION:Date et horaire: samedi 8 juin\, 9h45-17h\nLieu: Jardins du Mycélium\nAnimatrice: Emmanuelle Parent\n\n\n« J’exerce la profession de psychologue-psychothérapeute en France. Très intéressée par tout ce qui a trait à l’écopsychologie et à la transition intérieure\, j’ai découvert le Travail Qui Relie (TQR) il y a quelques années au hasard de mes lectures mais c’est seulement en 2021 que j’ai eu la chance et la joie de pouvoir participer et d’animer des ateliers de TQR. et à chaque nouvelle spirale\, je reste toujours surprise et enchantée par la puissance du processus. Ces ateliers ont  certainement contribué à mon changement de cap personnel qui prend aujourd’hui  la forme d’une participation active dans la création d’un habitat participatif\, avec comme devise « Tentons  les  Possibles ! »\n\n\nDescription: créé par l’écopsychologue Joanna Macy\, le Travail qui Relie (TQR) a pour intention de composter les émotions de tristesse et de colère face à l’état du monde en énergie pour passer à l’action\, par la création d’une connexion plus profonde à la Terre et au vivant. Le TQR est composé de quatre étapes\, dont la force est corrélée aux partages dans le groupe:\n\n\nS’ancrer dans la gratitude\nHonorer nos peines pour le monde\nChanger de perception\nAller de l’avant\n\n\nPrix: la formation est en participation en conscience\, c’est-à-dire que chacun.e participe en fonction de ce que le cours lui a apporté et de ces moyens financiers\, en tenant compte de l’investissement de l’animatrice.\nParticipation sur inscription ici\nRepas et boissons: dîner canadien. Thé\, eau et sirop fournis.\nMatériel à prendre: un repas à partager pour le midi\, vos couverts\, votre gourde et une tasse\, un coussin et/ou une couverture pour votre confort.
URL:https://www.reseaumycelium.ch/evenement/atelier-de-travail-qui-relie-tqr/
LOCATION:Neuchâtel
CATEGORIES:Atelier
END:VEVENT
END:VCALENDAR